BEGIN:VCALENDAR
VERSION:2.0
PRODID:-//Aunt Asheai - ECPv6.15.18//NONSGML v1.0//EN
CALSCALE:GREGORIAN
METHOD:PUBLISH
X-ORIGINAL-URL:https://auntasheai.com
X-WR-CALDESC:Events for Aunt Asheai
REFRESH-INTERVAL;VALUE=DURATION:PT1H
X-Robots-Tag:noindex
X-PUBLISHED-TTL:PT1H
BEGIN:VTIMEZONE
TZID:America/Denver
BEGIN:DAYLIGHT
TZOFFSETFROM:-0700
TZOFFSETTO:-0600
TZNAME:MDT
DTSTART:20230312T090000
END:DAYLIGHT
BEGIN:STANDARD
TZOFFSETFROM:-0600
TZOFFSETTO:-0700
TZNAME:MST
DTSTART:20231105T080000
END:STANDARD
BEGIN:DAYLIGHT
TZOFFSETFROM:-0700
TZOFFSETTO:-0600
TZNAME:MDT
DTSTART:20240310T090000
END:DAYLIGHT
BEGIN:STANDARD
TZOFFSETFROM:-0600
TZOFFSETTO:-0700
TZNAME:MST
DTSTART:20241103T080000
END:STANDARD
BEGIN:DAYLIGHT
TZOFFSETFROM:-0700
TZOFFSETTO:-0600
TZNAME:MDT
DTSTART:20250309T090000
END:DAYLIGHT
BEGIN:STANDARD
TZOFFSETFROM:-0600
TZOFFSETTO:-0700
TZNAME:MST
DTSTART:20251102T080000
END:STANDARD
END:VTIMEZONE
BEGIN:VEVENT
DTSTART;TZID=America/Denver:20240312T080000
DTEND;TZID=America/Denver:20240312T170000
DTSTAMP:20260424T093713
CREATED:20240312T074904Z
LAST-MODIFIED:20240312T120152Z
UID:10000001-1710230400-1710262800@auntasheai.com
SUMMARY:Example Event
DESCRIPTION:
URL:https://auntasheai.com/event/example-event/
CATEGORIES:Example Event
ATTACH;FMTTYPE=image/jpeg:https://auntasheai.com/wp-content/uploads/2024/03/pexels-monstera-production-6373291-scaled.jpg
END:VEVENT
END:VCALENDAR